BEGIN:VCALENDAR
VERSION:2.0
PRODID:-//wp-events-plugin.com//7.2.2.1//EN
BEGIN:VEVENT
UID:5@cesame.net
DTSTART:20251210T101500Z
DTEND:20251210T111500Z
DTSTAMP:20251201T143040Z
URL:https://www.cesame.net/evenement/portes-ouvertes-secretariat/
SUMMARY:Portes ouvertes Secretariat
DESCRIPTION:gfdfgfg\n\ndggff\n\ndgffdfgf\n\nfdgffd
ATTACH;FMTTYPE=image/jpeg:https://www.cesame.net/wp-content/uploads/2025/0
 8/pexels-lina-1741230.jpg
CATEGORIES:Portes ouvertes Secrétariat Médical
LOCATION:Ecole CESAME\, École CESAME\, 60 Avenue Rockefeller\, Le Monolith
 e\, Lyon 08\, Rhône\, 69008\, France
X-APPLE-STRUCTURED-LOCATION;VALUE=URI;X-ADDRESS=École CESAME\, 60 Avenue R
 ockefeller\, Le Monolithe\, Lyon 08\, Rhône\, 69008\, France;X-APPLE-RADI
 US=100;X-TITLE=Ecole CESAME:geo:0,0
END:VEVENT
END:VCALENDAR