BEGIN:VCALENDAR
VERSION:2.0
PRODID:-//wp-events-plugin.com//7.2.2.1//EN
BEGIN:VEVENT
UID:3@cesame.net
DTSTART;TZID=Europe/Paris:20251031T123000
DTEND;TZID=Europe/Paris:20251031T123000
DTSTAMP:20251029T004349Z
URL:https://www.cesame.net/evenement/portes-ouvertes-secretaire-medicale-2
 /
SUMMARY:Portes ouvertes Secrétaire Médicale
DESCRIPTION:Découvrez la formation.
ATTACH;FMTTYPE=image/jpeg:https://www.cesame.net/wp-content/uploads/2025/0
 7/pexels-olly-3791159.jpg
CATEGORIES:Portes ouvertes Secrétariat Médical
LOCATION:Ecole CESAME\, École CESAME\, 60 Avenue Rockefeller\, Le Monolith
 e\, Lyon 08\, Rhône\, 69008\, France
X-APPLE-STRUCTURED-LOCATION;VALUE=URI;X-ADDRESS=École CESAME\, 60 Avenue R
 ockefeller\, Le Monolithe\, Lyon 08\, Rhône\, 69008\, France;X-APPLE-RADI
 US=100;X-TITLE=Ecole CESAME:geo:0,0
END:VEVENT
BEGIN:VTIMEZONE
TZID:Europe/Paris
X-LIC-LOCATION:Europe/Paris
BEGIN:STANDARD
DTSTART:20251026T020000
TZOFFSETFROM:+0200
TZOFFSETTO:+0100
TZNAME:CET
END:STANDARD
END:VTIMEZONE
END:VCALENDAR